BEGIN:VCALENDAR
VERSION:2.0
PRODID:-//AHF Events! - ECPv6.15.20//NONSGML v1.0//EN
CALSCALE:GREGORIAN
METHOD:PUBLISH
X-ORIGINAL-URL:https://ahfevents.org
X-WR-CALDESC:Events for AHF Events!
REFRESH-INTERVAL;VALUE=DURATION:PT1H
X-Robots-Tag:noindex
X-PUBLISHED-TTL:PT1H
BEGIN:VTIMEZONE
TZID:UTC
BEGIN:STANDARD
TZOFFSETFROM:+0000
TZOFFSETTO:+0000
TZNAME:UTC
DTSTART:20250101T000000
END:STANDARD
END:VTIMEZONE
BEGIN:VEVENT
DTSTART;TZID=UTC:20260226T082300
DTEND;TZID=UTC:20260227T082300
DTSTAMP:20260424T020410
CREATED:20260215T191447Z
LAST-MODIFIED:20260215T191447Z
UID:10000434-1772094180-1772180580@ahfevents.org
SUMMARY:AIDS Walk New York
DESCRIPTION:
URL:https://ahfevents.org/event/aids-walk-new-york/
LOCATION:Broadway Pier at Port Pavilion\, 1000 North Harbor Drive\, San Diego\, CA\, 92132\, United States
CATEGORIES:AIDS Walk
ATTACH;FMTTYPE=image/jpeg:https://ahfevents.org/wp-content/uploads/2022/05/ai-generated-concert-crowd-enjoying-live-music-event-photo-1.jpg
END:VEVENT
END:VCALENDAR